BEGIN:VCALENDAR
VERSION:2.0
PRODID:-//PVK Marsonia - ECPv6.11.2.1//NONSGML v1.0//EN
CALSCALE:GREGORIAN
METHOD:PUBLISH
X-WR-CALNAME:PVK Marsonia
X-ORIGINAL-URL:https://pvk-marsonia.hr
X-WR-CALDESC:Događaji za PVK Marsonia
REFRESH-INTERVAL;VALUE=DURATION:PT1H
X-Robots-Tag:noindex
X-PUBLISHED-TTL:PT1H
BEGIN:VTIMEZONE
TZID:Europe/Paris
BEGIN:DAYLIGHT
TZOFFSETFROM:+0100
TZOFFSETTO:+0200
TZNAME:CEST
DTSTART:20230326T010000
END:DAYLIGHT
BEGIN:STANDARD
TZOFFSETFROM:+0200
TZOFFSETTO:+0100
TZNAME:CET
DTSTART:20231029T010000
END:STANDARD
END:VTIMEZONE
BEGIN:VEVENT
DTSTART;TZID=Europe/Paris:20230505T190000
DTEND;TZID=Europe/Paris:20230505T203000
DTSTAMP:20260426T041101
CREATED:20230428T114649Z
LAST-MODIFIED:20230428T114649Z
UID:765-1683313200-1683318600@pvk-marsonia.hr
SUMMARY:Plivanje trening
DESCRIPTION:
URL:https://pvk-marsonia.hr/event/plivanje-trening/
LOCATION:Gradski bazeni\, Gradski bazeni\, Ul. Stanka Vraza 2/a\, Slavonski Brod (35000)\, 35000\, Croatia (Local Name: Hrvatska)
CATEGORIES:Plivanje
ATTACH;FMTTYPE=image/jpeg:https://pvk-marsonia.hr/wp-content/uploads/2023/04/event-plivanje.jpg
ORGANIZER;CN="PVK Marsonia":MAILTO:info@pvk-marsonia.hr
END:VEVENT
BEGIN:VEVENT
DTSTART;TZID=Europe/Paris:20230504T190000
DTEND;TZID=Europe/Paris:20230504T203000
DTSTAMP:20260426T041101
CREATED:20230428T114403Z
LAST-MODIFIED:20230428T114403Z
UID:763-1683226800-1683232200@pvk-marsonia.hr
SUMMARY:Vaterpolo trening
DESCRIPTION:
URL:https://pvk-marsonia.hr/event/vaterpolo-trening/
LOCATION:Gradski bazeni\, Gradski bazeni\, Ul. Stanka Vraza 2/a\, Slavonski Brod (35000)\, 35000\, Croatia (Local Name: Hrvatska)
CATEGORIES:Vaterpolo
ATTACH;FMTTYPE=image/jpeg:https://pvk-marsonia.hr/wp-content/uploads/2023/04/event-vaterpolo-trening.jpg
ORGANIZER;CN="PVK Marsonia":MAILTO:info@pvk-marsonia.hr
END:VEVENT
END:VCALENDAR